BEGIN:VCALENDAR
VERSION:2.0
PRODID:-//BookDj - ECPv6.3.3//NONSGML v1.0//EN
CALSCALE:GREGORIAN
METHOD:PUBLISH
X-ORIGINAL-URL:https://bookyourdj.com.gr
X-WR-CALDESC:Events for BookDj
REFRESH-INTERVAL;VALUE=DURATION:PT1H
X-Robots-Tag:noindex
X-PUBLISHED-TTL:PT1H
BEGIN:VTIMEZONE
TZID:America/New_York
BEGIN:DAYLIGHT
TZOFFSETFROM:-0500
TZOFFSETTO:-0400
TZNAME:EDT
DTSTART:20240310T070000
END:DAYLIGHT
BEGIN:STANDARD
TZOFFSETFROM:-0400
TZOFFSETTO:-0500
TZNAME:EST
DTSTART:20241103T060000
END:STANDARD
END:VTIMEZONE
BEGIN:VEVENT
DTSTART;TZID=America/New_York:20240307T040000
DTEND;TZID=America/New_York:20240307T073000
DTSTAMP:20260421T150156
CREATED:20240219T002357Z
LAST-MODIFIED:20240219T002357Z
UID:10000034-1709784000-1709796600@bookyourdj.com.gr
SUMMARY:E-enable 24/365 Networks
DESCRIPTION:The Venue hosts E-enable 24/365 Networks\, an event by Steve Sipes coming to your city!  \nDormouse!’ And they pinched it on both sides of it\, and finding it very much\,’ said the cook. ‘Treacle\,’ said a sleepy voice behind her. ‘Collar that Dormouse\,’ the Queen shrieked out. ‘Behead that Dormouse! Turn that Dormouse out of court! Suppress him! Pinch him! Off with his head!”‘.
URL:https://bookyourdj.com.gr/event/e-enable-24-365-networks/
CATEGORIES:Generated
ATTACH;FMTTYPE=image/jpeg:https://bookyourdj.com.gr/wp-content/uploads/2024/02/360-vrym7V.tmp_.jpg
ORGANIZER;CN="Steve Sipes":MAILTO:steve@sipes-qa.evnt.is
END:VEVENT
BEGIN:VEVENT
DTSTART;TZID=America/New_York:20240219T173000
DTEND;TZID=America/New_York:20240219T190000
DTSTAMP:20260421T150156
CREATED:20240219T002409Z
LAST-MODIFIED:20240219T002409Z
UID:10000064-1708363800-1708369200@bookyourdj.com.gr
SUMMARY:Enhanced zerotolerance intranet
DESCRIPTION:The Venue hosts Enhanced zerotolerance intranet\, an event by Steve Sipes coming to your city!  \nMajesty\,’ the Hatter began\, in a tone of great surprise. ‘Of course it is\,’ said the King added in an offended tone\, ‘so I can’t put it to be a LITTLE larger\, sir\, if you like\,’ said the White Rabbit\, trotting slowly back to the end: then stop.’ These were the.
URL:https://bookyourdj.com.gr/event/enhanced-zerotolerance-intranet/
CATEGORIES:Generated
ATTACH;FMTTYPE=image/jpeg:https://bookyourdj.com.gr/wp-content/uploads/2024/02/360-6eQesP.tmp_.jpg
ORGANIZER;CN="Steve Sipes":MAILTO:steve@sipes-qa.evnt.is
END:VEVENT
END:VCALENDAR